BEGIN:VCALENDAR
VERSION:2.0
PRODID:-//Evangelische Kirchengemeinde Naurod - ECPv6.15.20//NONSGML v1.0//EN
CALSCALE:GREGORIAN
METHOD:PUBLISH
X-WR-CALNAME:Evangelische Kirchengemeinde Naurod
X-ORIGINAL-URL:https://www.ev-kirche-naurod.de
X-WR-CALDESC:Veranstaltungen für Evangelische Kirchengemeinde Naurod
REFRESH-INTERVAL;VALUE=DURATION:PT1H
X-Robots-Tag:noindex
X-PUBLISHED-TTL:PT1H
BEGIN:VTIMEZONE
TZID:Europe/Berlin
BEGIN:DAYLIGHT
TZOFFSETFROM:+0100
TZOFFSETTO:+0200
TZNAME:CEST
DTSTART:20250330T010000
END:DAYLIGHT
BEGIN:STANDARD
TZOFFSETFROM:+0200
TZOFFSETTO:+0100
TZNAME:CET
DTSTART:20251026T010000
END:STANDARD
BEGIN:DAYLIGHT
TZOFFSETFROM:+0100
TZOFFSETTO:+0200
TZNAME:CEST
DTSTART:20260329T010000
END:DAYLIGHT
BEGIN:STANDARD
TZOFFSETFROM:+0200
TZOFFSETTO:+0100
TZNAME:CET
DTSTART:20261025T010000
END:STANDARD
BEGIN:DAYLIGHT
TZOFFSETFROM:+0100
TZOFFSETTO:+0200
TZNAME:CEST
DTSTART:20270328T010000
END:DAYLIGHT
BEGIN:STANDARD
TZOFFSETFROM:+0200
TZOFFSETTO:+0100
TZNAME:CET
DTSTART:20271031T010000
END:STANDARD
END:VTIMEZONE
BEGIN:VEVENT
DTSTART;TZID=Europe/Berlin:20260803T183000
DTEND;TZID=Europe/Berlin:20260803T183000
DTSTAMP:20260419T222212
CREATED:20260217T194332Z
LAST-MODIFIED:20260217T194332Z
UID:8186-1785781800-1785781800@www.ev-kirche-naurod.de
SUMMARY:Kirchenchor
DESCRIPTION:
URL:https://www.ev-kirche-naurod.de/event/kirchenchor-210/
LOCATION:Ev. Gemeindehaus Naurod\, Kirchhohl 5\, Wiesbaden-Naurod\, Hessen\, 65207\, Deutschland
CATEGORIES:Kirchenchor
END:VEVENT
BEGIN:VEVENT
DTSTART;TZID=Europe/Berlin:20260810T183000
DTEND;TZID=Europe/Berlin:20260810T183000
DTSTAMP:20260419T222212
CREATED:20260217T194344Z
LAST-MODIFIED:20260217T194344Z
UID:8187-1786386600-1786386600@www.ev-kirche-naurod.de
SUMMARY:Kirchenchor
DESCRIPTION:
URL:https://www.ev-kirche-naurod.de/event/kirchenchor-211/
LOCATION:Ev. Gemeindehaus Naurod\, Kirchhohl 5\, Wiesbaden-Naurod\, Hessen\, 65207\, Deutschland
CATEGORIES:Kirchenchor
END:VEVENT
BEGIN:VEVENT
DTSTART;TZID=Europe/Berlin:20260817T183000
DTEND;TZID=Europe/Berlin:20260817T183000
DTSTAMP:20260419T222212
CREATED:20260217T194345Z
LAST-MODIFIED:20260217T194345Z
UID:8188-1786991400-1786991400@www.ev-kirche-naurod.de
SUMMARY:Kirchenchor
DESCRIPTION:
URL:https://www.ev-kirche-naurod.de/event/kirchenchor-212/
LOCATION:Ev. Gemeindehaus Naurod\, Kirchhohl 5\, Wiesbaden-Naurod\, Hessen\, 65207\, Deutschland
CATEGORIES:Kirchenchor
END:VEVENT
BEGIN:VEVENT
DTSTART;TZID=Europe/Berlin:20260824T183000
DTEND;TZID=Europe/Berlin:20260824T183000
DTSTAMP:20260419T222212
CREATED:20260217T194346Z
LAST-MODIFIED:20260217T194346Z
UID:8189-1787596200-1787596200@www.ev-kirche-naurod.de
SUMMARY:Kirchenchor
DESCRIPTION:
URL:https://www.ev-kirche-naurod.de/event/kirchenchor-213/
LOCATION:Ev. Gemeindehaus Naurod\, Kirchhohl 5\, Wiesbaden-Naurod\, Hessen\, 65207\, Deutschland
CATEGORIES:Kirchenchor
END:VEVENT
BEGIN:VEVENT
DTSTART;TZID=Europe/Berlin:20260831T183000
DTEND;TZID=Europe/Berlin:20260831T183000
DTSTAMP:20260419T222212
CREATED:20260217T194347Z
LAST-MODIFIED:20260217T194347Z
UID:8190-1788201000-1788201000@www.ev-kirche-naurod.de
SUMMARY:Kirchenchor
DESCRIPTION:
URL:https://www.ev-kirche-naurod.de/event/kirchenchor-214/
LOCATION:Ev. Gemeindehaus Naurod\, Kirchhohl 5\, Wiesbaden-Naurod\, Hessen\, 65207\, Deutschland
CATEGORIES:Kirchenchor
END:VEVENT
END:VCALENDAR