BEGIN:VCALENDAR
VERSION:2.0
PRODID:-//Evangelische Kirchengemeinde Naurod - ECPv6.15.20//NONSGML v1.0//EN
CALSCALE:GREGORIAN
METHOD:PUBLISH
X-ORIGINAL-URL:https://www.ev-kirche-naurod.de
X-WR-CALDESC:Veranstaltungen für Evangelische Kirchengemeinde Naurod
REFRESH-INTERVAL;VALUE=DURATION:PT1H
X-Robots-Tag:noindex
X-PUBLISHED-TTL:PT1H
BEGIN:VTIMEZONE
TZID:Europe/Berlin
BEGIN:DAYLIGHT
TZOFFSETFROM:+0100
TZOFFSETTO:+0200
TZNAME:CEST
DTSTART:20250330T010000
END:DAYLIGHT
BEGIN:STANDARD
TZOFFSETFROM:+0200
TZOFFSETTO:+0100
TZNAME:CET
DTSTART:20251026T010000
END:STANDARD
BEGIN:DAYLIGHT
TZOFFSETFROM:+0100
TZOFFSETTO:+0200
TZNAME:CEST
DTSTART:20260329T010000
END:DAYLIGHT
BEGIN:STANDARD
TZOFFSETFROM:+0200
TZOFFSETTO:+0100
TZNAME:CET
DTSTART:20261025T010000
END:STANDARD
BEGIN:DAYLIGHT
TZOFFSETFROM:+0100
TZOFFSETTO:+0200
TZNAME:CEST
DTSTART:20270328T010000
END:DAYLIGHT
BEGIN:STANDARD
TZOFFSETFROM:+0200
TZOFFSETTO:+0100
TZNAME:CET
DTSTART:20271031T010000
END:STANDARD
END:VTIMEZONE
BEGIN:VEVENT
DTSTART;TZID=Europe/Berlin:20260701T190000
DTEND;TZID=Europe/Berlin:20260701T190000
DTSTAMP:20260419T205206
CREATED:20260217T194010Z
LAST-MODIFIED:20260217T194010Z
UID:8155-1782932400-1782932400@www.ev-kirche-naurod.de
SUMMARY:Jugendgruppe I
DESCRIPTION:
URL:https://www.ev-kirche-naurod.de/event/jugendgruppe-i-124/
LOCATION:Ev. Gemeindehaus Naurod Jugendräume\, Kirchhohl 5\, Wiesbaden-Naurod\, Hessen\, 65207\, Deutschland
CATEGORIES:Jugend
END:VEVENT
BEGIN:VEVENT
DTSTART;TZID=Europe/Berlin:20260701T200000
DTEND;TZID=Europe/Berlin:20260701T200000
DTSTAMP:20260419T205206
CREATED:20260217T194053Z
LAST-MODIFIED:20260217T194053Z
UID:8168-1782936000-1782936000@www.ev-kirche-naurod.de
SUMMARY:Jugendgruppe II
DESCRIPTION:
URL:https://www.ev-kirche-naurod.de/event/jugendgruppe-ii-124/
LOCATION:Ev. Gemeindehaus Naurod Jugendräume\, Kirchhohl 5\, Wiesbaden-Naurod\, Hessen\, 65207\, Deutschland
CATEGORIES:Jugend
END:VEVENT
BEGIN:VEVENT
DTSTART;TZID=Europe/Berlin:20260706T183000
DTEND;TZID=Europe/Berlin:20260706T183000
DTSTAMP:20260419T205206
CREATED:20260217T194328Z
LAST-MODIFIED:20260217T194328Z
UID:8182-1783362600-1783362600@www.ev-kirche-naurod.de
SUMMARY:Kirchenchor
DESCRIPTION:
URL:https://www.ev-kirche-naurod.de/event/kirchenchor-206/
LOCATION:Ev. Gemeindehaus Naurod\, Kirchhohl 5\, Wiesbaden-Naurod\, Hessen\, 65207\, Deutschland
CATEGORIES:Kirchenchor
END:VEVENT
BEGIN:VEVENT
DTSTART;TZID=Europe/Berlin:20260708T190000
DTEND;TZID=Europe/Berlin:20260708T190000
DTSTAMP:20260419T205206
CREATED:20260217T194010Z
LAST-MODIFIED:20260217T194010Z
UID:8156-1783537200-1783537200@www.ev-kirche-naurod.de
SUMMARY:Jugendgruppe I
DESCRIPTION:
URL:https://www.ev-kirche-naurod.de/event/jugendgruppe-i-125/
LOCATION:Ev. Gemeindehaus Naurod Jugendräume\, Kirchhohl 5\, Wiesbaden-Naurod\, Hessen\, 65207\, Deutschland
CATEGORIES:Jugend
END:VEVENT
BEGIN:VEVENT
DTSTART;TZID=Europe/Berlin:20260708T200000
DTEND;TZID=Europe/Berlin:20260708T200000
DTSTAMP:20260419T205206
CREATED:20260217T194054Z
LAST-MODIFIED:20260217T194054Z
UID:8169-1783540800-1783540800@www.ev-kirche-naurod.de
SUMMARY:Jugendgruppe II
DESCRIPTION:
URL:https://www.ev-kirche-naurod.de/event/jugendgruppe-ii-125/
LOCATION:Ev. Gemeindehaus Naurod Jugendräume\, Kirchhohl 5\, Wiesbaden-Naurod\, Hessen\, 65207\, Deutschland
CATEGORIES:Jugend
END:VEVENT
BEGIN:VEVENT
DTSTART;TZID=Europe/Berlin:20260713T183000
DTEND;TZID=Europe/Berlin:20260713T183000
DTSTAMP:20260419T205206
CREATED:20260217T194329Z
LAST-MODIFIED:20260217T194329Z
UID:8183-1783967400-1783967400@www.ev-kirche-naurod.de
SUMMARY:Kirchenchor
DESCRIPTION:
URL:https://www.ev-kirche-naurod.de/event/kirchenchor-207/
LOCATION:Ev. Gemeindehaus Naurod\, Kirchhohl 5\, Wiesbaden-Naurod\, Hessen\, 65207\, Deutschland
CATEGORIES:Kirchenchor
END:VEVENT
BEGIN:VEVENT
DTSTART;TZID=Europe/Berlin:20260715T190000
DTEND;TZID=Europe/Berlin:20260715T190000
DTSTAMP:20260419T205206
CREATED:20260217T194022Z
LAST-MODIFIED:20260217T194022Z
UID:8157-1784142000-1784142000@www.ev-kirche-naurod.de
SUMMARY:Jugendgruppe I
DESCRIPTION:
URL:https://www.ev-kirche-naurod.de/event/jugendgruppe-i-126/
LOCATION:Ev. Gemeindehaus Naurod Jugendräume\, Kirchhohl 5\, Wiesbaden-Naurod\, Hessen\, 65207\, Deutschland
CATEGORIES:Jugend
END:VEVENT
BEGIN:VEVENT
DTSTART;TZID=Europe/Berlin:20260715T200000
DTEND;TZID=Europe/Berlin:20260715T200000
DTSTAMP:20260419T205206
CREATED:20260217T194055Z
LAST-MODIFIED:20260217T194055Z
UID:8170-1784145600-1784145600@www.ev-kirche-naurod.de
SUMMARY:Jugendgruppe II
DESCRIPTION:
URL:https://www.ev-kirche-naurod.de/event/jugendgruppe-ii-126/
LOCATION:Ev. Gemeindehaus Naurod Jugendräume\, Kirchhohl 5\, Wiesbaden-Naurod\, Hessen\, 65207\, Deutschland
CATEGORIES:Jugend
END:VEVENT
BEGIN:VEVENT
DTSTART;TZID=Europe/Berlin:20260720T183000
DTEND;TZID=Europe/Berlin:20260720T183000
DTSTAMP:20260419T205206
CREATED:20260217T194330Z
LAST-MODIFIED:20260217T194330Z
UID:8184-1784572200-1784572200@www.ev-kirche-naurod.de
SUMMARY:Kirchenchor
DESCRIPTION:
URL:https://www.ev-kirche-naurod.de/event/kirchenchor-208/
LOCATION:Ev. Gemeindehaus Naurod\, Kirchhohl 5\, Wiesbaden-Naurod\, Hessen\, 65207\, Deutschland
CATEGORIES:Kirchenchor
END:VEVENT
BEGIN:VEVENT
DTSTART;TZID=Europe/Berlin:20260721T190000
DTEND;TZID=Europe/Berlin:20260721T190000
DTSTAMP:20260419T205206
CREATED:20260415T092406Z
LAST-MODIFIED:20260415T092406Z
UID:8386-1784660400-1784660400@www.ev-kirche-naurod.de
SUMMARY:Philosophischer Gesprächskreis
DESCRIPTION:mit Dr. Margit Ruffing. Das Thema wird noch festgelegt.
URL:https://www.ev-kirche-naurod.de/event/philosophischer-gespraechskreis-5/
LOCATION:Ev. Gemeindehaus Naurod\, Kirchhohl 5\, Wiesbaden-Naurod\, Hessen\, 65207\, Deutschland
CATEGORIES:Religionsgespräche
END:VEVENT
BEGIN:VEVENT
DTSTART;TZID=Europe/Berlin:20260722T190000
DTEND;TZID=Europe/Berlin:20260722T190000
DTSTAMP:20260419T205206
CREATED:20260217T194023Z
LAST-MODIFIED:20260217T194023Z
UID:8158-1784746800-1784746800@www.ev-kirche-naurod.de
SUMMARY:Jugendgruppe I
DESCRIPTION:
URL:https://www.ev-kirche-naurod.de/event/jugendgruppe-i-127/
LOCATION:Ev. Gemeindehaus Naurod Jugendräume\, Kirchhohl 5\, Wiesbaden-Naurod\, Hessen\, 65207\, Deutschland
CATEGORIES:Jugend
END:VEVENT
BEGIN:VEVENT
DTSTART;TZID=Europe/Berlin:20260722T200000
DTEND;TZID=Europe/Berlin:20260722T200000
DTSTAMP:20260419T205206
CREATED:20260217T194056Z
LAST-MODIFIED:20260217T194056Z
UID:8171-1784750400-1784750400@www.ev-kirche-naurod.de
SUMMARY:Jugendgruppe II
DESCRIPTION:
URL:https://www.ev-kirche-naurod.de/event/jugendgruppe-ii-127/
LOCATION:Ev. Gemeindehaus Naurod Jugendräume\, Kirchhohl 5\, Wiesbaden-Naurod\, Hessen\, 65207\, Deutschland
CATEGORIES:Jugend
END:VEVENT
BEGIN:VEVENT
DTSTART;TZID=Europe/Berlin:20260727T183000
DTEND;TZID=Europe/Berlin:20260727T183000
DTSTAMP:20260419T205206
CREATED:20260217T194331Z
LAST-MODIFIED:20260217T194331Z
UID:8185-1785177000-1785177000@www.ev-kirche-naurod.de
SUMMARY:Kirchenchor
DESCRIPTION:
URL:https://www.ev-kirche-naurod.de/event/kirchenchor-209/
LOCATION:Ev. Gemeindehaus Naurod\, Kirchhohl 5\, Wiesbaden-Naurod\, Hessen\, 65207\, Deutschland
CATEGORIES:Kirchenchor
END:VEVENT
BEGIN:VEVENT
DTSTART;TZID=Europe/Berlin:20260729T190000
DTEND;TZID=Europe/Berlin:20260729T190000
DTSTAMP:20260419T205206
CREATED:20260217T194024Z
LAST-MODIFIED:20260217T194024Z
UID:8159-1785351600-1785351600@www.ev-kirche-naurod.de
SUMMARY:Jugendgruppe I
DESCRIPTION:
URL:https://www.ev-kirche-naurod.de/event/jugendgruppe-i-128/
LOCATION:Ev. Gemeindehaus Naurod Jugendräume\, Kirchhohl 5\, Wiesbaden-Naurod\, Hessen\, 65207\, Deutschland
CATEGORIES:Jugend
END:VEVENT
BEGIN:VEVENT
DTSTART;TZID=Europe/Berlin:20260729T200000
DTEND;TZID=Europe/Berlin:20260729T200000
DTSTAMP:20260419T205206
CREATED:20260217T194107Z
LAST-MODIFIED:20260217T194107Z
UID:8172-1785355200-1785355200@www.ev-kirche-naurod.de
SUMMARY:Jugendgruppe II
DESCRIPTION:
URL:https://www.ev-kirche-naurod.de/event/jugendgruppe-ii-128/
LOCATION:Ev. Gemeindehaus Naurod Jugendräume\, Kirchhohl 5\, Wiesbaden-Naurod\, Hessen\, 65207\, Deutschland
CATEGORIES:Jugend
END:VEVENT
END:VCALENDAR