BEGIN:VCALENDAR
VERSION:2.0
PRODID:-//Evangelische Kirchengemeinde Naurod - ECPv6.15.20//NONSGML v1.0//EN
CALSCALE:GREGORIAN
METHOD:PUBLISH
X-WR-CALNAME:Evangelische Kirchengemeinde Naurod
X-ORIGINAL-URL:https://www.ev-kirche-naurod.de
X-WR-CALDESC:Veranstaltungen für Evangelische Kirchengemeinde Naurod
REFRESH-INTERVAL;VALUE=DURATION:PT1H
X-Robots-Tag:noindex
X-PUBLISHED-TTL:PT1H
BEGIN:VTIMEZONE
TZID:Europe/Berlin
BEGIN:DAYLIGHT
TZOFFSETFROM:+0100
TZOFFSETTO:+0200
TZNAME:CEST
DTSTART:20250330T010000
END:DAYLIGHT
BEGIN:STANDARD
TZOFFSETFROM:+0200
TZOFFSETTO:+0100
TZNAME:CET
DTSTART:20251026T010000
END:STANDARD
BEGIN:DAYLIGHT
TZOFFSETFROM:+0100
TZOFFSETTO:+0200
TZNAME:CEST
DTSTART:20260329T010000
END:DAYLIGHT
BEGIN:STANDARD
TZOFFSETFROM:+0200
TZOFFSETTO:+0100
TZNAME:CET
DTSTART:20261025T010000
END:STANDARD
BEGIN:DAYLIGHT
TZOFFSETFROM:+0100
TZOFFSETTO:+0200
TZNAME:CEST
DTSTART:20270328T010000
END:DAYLIGHT
BEGIN:STANDARD
TZOFFSETFROM:+0200
TZOFFSETTO:+0100
TZNAME:CET
DTSTART:20271031T010000
END:STANDARD
END:VTIMEZONE
BEGIN:VEVENT
DTSTART;TZID=Europe/Berlin:20260524T093000
DTEND;TZID=Europe/Berlin:20260524T093000
DTSTAMP:20260419T191322
CREATED:20260217T195050Z
LAST-MODIFIED:20260217T195050Z
UID:8224-1779615000-1779615000@www.ev-kirche-naurod.de
SUMMARY:Gottesdienst am Pfingstsonntag mit Hl. Abendmahl
DESCRIPTION:mit Pfarrer Thomas Tschöpel
URL:https://www.ev-kirche-naurod.de/event/gottesdienst-am-pfingstsonntag-mit-hl-abendmahl-2/
LOCATION:Ev. Kirche Naurod\, Kirchhohl 1\, Wiesbaden-Naurod\, Hessen\, 65207\, Deutschland
CATEGORIES:Gottesdienst
END:VEVENT
BEGIN:VEVENT
DTSTART;TZID=Europe/Berlin:20260524T103000
DTEND;TZID=Europe/Berlin:20260524T103000
DTSTAMP:20260419T191322
CREATED:20260217T195051Z
LAST-MODIFIED:20260217T195051Z
UID:8225-1779618600-1779618600@www.ev-kirche-naurod.de
SUMMARY:AUR - Gottesdienst am Pfingstsonntag mit Hl. Abendmahl
DESCRIPTION:mit Pfarrer Frederik Ebling
URL:https://www.ev-kirche-naurod.de/event/aur-gottesdienst-am-pfingstsonntag-mit-hl-abendmahl-2/
LOCATION:Ev. Kirche Auringen\, Kirchenhügel 1a\, Wiesbaden-Auringen\, Hessen\, 65207\, Deutschland
CATEGORIES:Gottesdienst
END:VEVENT
BEGIN:VEVENT
DTSTART;TZID=Europe/Berlin:20260524T110000
DTEND;TZID=Europe/Berlin:20260524T110000
DTSTAMP:20260419T191322
CREATED:20260217T195233Z
LAST-MODIFIED:20260217T195233Z
UID:8226-1779620400-1779620400@www.ev-kirche-naurod.de
SUMMARY:MED - Gottesdienst am Pfingstsonntag
DESCRIPTION:mit Pfarrer Thomas Tschöpel
URL:https://www.ev-kirche-naurod.de/event/med-gottesdienst-am-pfingstsonntag/
LOCATION:Ev. Kirche Medenbach\, Fritz-Erler-Straße 11\, Wiesbaden
CATEGORIES:Gottesdienst
END:VEVENT
END:VCALENDAR