BEGIN:VCALENDAR
VERSION:2.0
PRODID:-//Evangelische Kirchengemeinde Naurod - ECPv6.15.20//NONSGML v1.0//EN
CALSCALE:GREGORIAN
METHOD:PUBLISH
X-ORIGINAL-URL:https://www.ev-kirche-naurod.de
X-WR-CALDESC:Veranstaltungen für Evangelische Kirchengemeinde Naurod
REFRESH-INTERVAL;VALUE=DURATION:PT1H
X-Robots-Tag:noindex
X-PUBLISHED-TTL:PT1H
BEGIN:VTIMEZONE
TZID:Europe/Berlin
BEGIN:DAYLIGHT
TZOFFSETFROM:+0100
TZOFFSETTO:+0200
TZNAME:CEST
DTSTART:20250330T010000
END:DAYLIGHT
BEGIN:STANDARD
TZOFFSETFROM:+0200
TZOFFSETTO:+0100
TZNAME:CET
DTSTART:20251026T010000
END:STANDARD
BEGIN:DAYLIGHT
TZOFFSETFROM:+0100
TZOFFSETTO:+0200
TZNAME:CEST
DTSTART:20260329T010000
END:DAYLIGHT
BEGIN:STANDARD
TZOFFSETFROM:+0200
TZOFFSETTO:+0100
TZNAME:CET
DTSTART:20261025T010000
END:STANDARD
BEGIN:DAYLIGHT
TZOFFSETFROM:+0100
TZOFFSETTO:+0200
TZNAME:CEST
DTSTART:20270328T010000
END:DAYLIGHT
BEGIN:STANDARD
TZOFFSETFROM:+0200
TZOFFSETTO:+0100
TZNAME:CET
DTSTART:20271031T010000
END:STANDARD
END:VTIMEZONE
BEGIN:VEVENT
DTSTART;TZID=Europe/Berlin:20260520T190000
DTEND;TZID=Europe/Berlin:20260520T190000
DTSTAMP:20260419T190443
CREATED:20260217T193959Z
LAST-MODIFIED:20260217T193959Z
UID:8149-1779303600-1779303600@www.ev-kirche-naurod.de
SUMMARY:Jugendgruppe I
DESCRIPTION:
URL:https://www.ev-kirche-naurod.de/event/jugendgruppe-i-118/
LOCATION:Ev. Gemeindehaus Naurod Jugendräume\, Kirchhohl 5\, Wiesbaden-Naurod\, Hessen\, 65207\, Deutschland
CATEGORIES:Jugend
END:VEVENT
BEGIN:VEVENT
DTSTART;TZID=Europe/Berlin:20260520T190000
DTEND;TZID=Europe/Berlin:20260520T190000
DTSTAMP:20260419T190443
CREATED:20260217T195049Z
LAST-MODIFIED:20260217T195049Z
UID:8223-1779303600-1779303600@www.ev-kirche-naurod.de
SUMMARY:MED - Andacht Autobahnkirche
DESCRIPTION:mit Pfarrerin Eva-Maria Spinola
URL:https://www.ev-kirche-naurod.de/event/med-andacht-autobahnkirche-11/
LOCATION:Autobahnkirche Medenbach\, Rastplatz Medenbach A3\, Wiesbaden
CATEGORIES:Gottesdienst
END:VEVENT
BEGIN:VEVENT
DTSTART;TZID=Europe/Berlin:20260520T200000
DTEND;TZID=Europe/Berlin:20260520T200000
DTSTAMP:20260419T190443
CREATED:20260217T194038Z
LAST-MODIFIED:20260217T194038Z
UID:8162-1779307200-1779307200@www.ev-kirche-naurod.de
SUMMARY:Jugendgruppe II
DESCRIPTION:
URL:https://www.ev-kirche-naurod.de/event/jugendgruppe-ii-118/
LOCATION:Ev. Gemeindehaus Naurod Jugendräume\, Kirchhohl 5\, Wiesbaden-Naurod\, Hessen\, 65207\, Deutschland
CATEGORIES:Jugend
END:VEVENT
END:VCALENDAR