BEGIN:VCALENDAR
VERSION:2.0
PRODID:-//Evangelische Kirchengemeinde Naurod - ECPv6.15.20//NONSGML v1.0//EN
CALSCALE:GREGORIAN
METHOD:PUBLISH
X-WR-CALNAME:Evangelische Kirchengemeinde Naurod
X-ORIGINAL-URL:https://www.ev-kirche-naurod.de
X-WR-CALDESC:Veranstaltungen für Evangelische Kirchengemeinde Naurod
REFRESH-INTERVAL;VALUE=DURATION:PT1H
X-Robots-Tag:noindex
X-PUBLISHED-TTL:PT1H
BEGIN:VTIMEZONE
TZID:Europe/Berlin
BEGIN:DAYLIGHT
TZOFFSETFROM:+0100
TZOFFSETTO:+0200
TZNAME:CEST
DTSTART:20250330T010000
END:DAYLIGHT
BEGIN:STANDARD
TZOFFSETFROM:+0200
TZOFFSETTO:+0100
TZNAME:CET
DTSTART:20251026T010000
END:STANDARD
BEGIN:DAYLIGHT
TZOFFSETFROM:+0100
TZOFFSETTO:+0200
TZNAME:CEST
DTSTART:20260329T010000
END:DAYLIGHT
BEGIN:STANDARD
TZOFFSETFROM:+0200
TZOFFSETTO:+0100
TZNAME:CET
DTSTART:20261025T010000
END:STANDARD
BEGIN:DAYLIGHT
TZOFFSETFROM:+0100
TZOFFSETTO:+0200
TZNAME:CEST
DTSTART:20270328T010000
END:DAYLIGHT
BEGIN:STANDARD
TZOFFSETFROM:+0200
TZOFFSETTO:+0100
TZNAME:CET
DTSTART:20271031T010000
END:STANDARD
END:VTIMEZONE
BEGIN:VEVENT
DTSTART;TZID=Europe/Berlin:20260517T093000
DTEND;TZID=Europe/Berlin:20260517T093000
DTSTAMP:20260419T191148
CREATED:20260217T195048Z
LAST-MODIFIED:20260217T195048Z
UID:8221-1779010200-1779010200@www.ev-kirche-naurod.de
SUMMARY:Gottesdienst
DESCRIPTION:mit Pfarrerin i.R. Kerstin Mann
URL:https://www.ev-kirche-naurod.de/event/gottesdienst-73/
LOCATION:Ev. Kirche Naurod\, Kirchhohl 1\, Wiesbaden-Naurod\, Hessen\, 65207\, Deutschland
CATEGORIES:Gottesdienst
END:VEVENT
BEGIN:VEVENT
DTSTART;TZID=Europe/Berlin:20260517T103000
DTEND;TZID=Europe/Berlin:20260517T103000
DTSTAMP:20260419T191148
CREATED:20260217T195049Z
LAST-MODIFIED:20260217T195049Z
UID:8222-1779013800-1779013800@www.ev-kirche-naurod.de
SUMMARY:AUR - Konfirmation
DESCRIPTION:mit Pfarrer Thomas Tschöpel und Pfarrer Frederik Ebling
URL:https://www.ev-kirche-naurod.de/event/aur-konfirmation-2/
LOCATION:Ev. Kirche Auringen\, Kirchenhügel 1a\, Wiesbaden-Auringen\, Hessen\, 65207\, Deutschland
CATEGORIES:Gottesdienst
END:VEVENT
END:VCALENDAR