BEGIN:VCALENDAR
VERSION:2.0
PRODID:-//Evangelische Kirchengemeinde Naurod - ECPv6.15.20//NONSGML v1.0//EN
CALSCALE:GREGORIAN
METHOD:PUBLISH
X-ORIGINAL-URL:https://www.ev-kirche-naurod.de
X-WR-CALDESC:Veranstaltungen für Evangelische Kirchengemeinde Naurod
REFRESH-INTERVAL;VALUE=DURATION:PT1H
X-Robots-Tag:noindex
X-PUBLISHED-TTL:PT1H
BEGIN:VTIMEZONE
TZID:Europe/Berlin
BEGIN:DAYLIGHT
TZOFFSETFROM:+0100
TZOFFSETTO:+0200
TZNAME:CEST
DTSTART:20250330T010000
END:DAYLIGHT
BEGIN:STANDARD
TZOFFSETFROM:+0200
TZOFFSETTO:+0100
TZNAME:CET
DTSTART:20251026T010000
END:STANDARD
BEGIN:DAYLIGHT
TZOFFSETFROM:+0100
TZOFFSETTO:+0200
TZNAME:CEST
DTSTART:20260329T010000
END:DAYLIGHT
BEGIN:STANDARD
TZOFFSETFROM:+0200
TZOFFSETTO:+0100
TZNAME:CET
DTSTART:20261025T010000
END:STANDARD
BEGIN:DAYLIGHT
TZOFFSETFROM:+0100
TZOFFSETTO:+0200
TZNAME:CEST
DTSTART:20270328T010000
END:DAYLIGHT
BEGIN:STANDARD
TZOFFSETFROM:+0200
TZOFFSETTO:+0100
TZNAME:CET
DTSTART:20271031T010000
END:STANDARD
END:VTIMEZONE
BEGIN:VEVENT
DTSTART;TZID=Europe/Berlin:20260503T093000
DTEND;TZID=Europe/Berlin:20260503T093000
DTSTAMP:20260419T173620
CREATED:20260217T194753Z
LAST-MODIFIED:20260217T194753Z
UID:8215-1777800600-1777800600@www.ev-kirche-naurod.de
SUMMARY:Gottesdienst
DESCRIPTION:mit Pfarrerin i.R. Kerstin Mann
URL:https://www.ev-kirche-naurod.de/event/gottesdienst-72/
LOCATION:Ev. Kirche Naurod\, Kirchhohl 1\, Wiesbaden-Naurod\, Hessen\, 65207\, Deutschland
CATEGORIES:Gottesdienst
END:VEVENT
BEGIN:VEVENT
DTSTART;TZID=Europe/Berlin:20260503T103000
DTEND;TZID=Europe/Berlin:20260503T103000
DTSTAMP:20260419T173620
CREATED:20260217T194903Z
LAST-MODIFIED:20260217T194903Z
UID:8216-1777804200-1777804200@www.ev-kirche-naurod.de
SUMMARY:MED - Konfirmation
DESCRIPTION:mit Pfarrer Thomas Tschöpel und Pfarrer Frederik Ebling
URL:https://www.ev-kirche-naurod.de/event/med-konfirmation/
LOCATION:Ev. Kirche Medenbach\, Fritz-Erler-Straße 11\, Wiesbaden
CATEGORIES:Gottesdienst
END:VEVENT
END:VCALENDAR