BEGIN:VCALENDAR
VERSION:2.0
PRODID:-//Evangelische Kirchengemeinde Naurod - ECPv6.15.20//NONSGML v1.0//EN
CALSCALE:GREGORIAN
METHOD:PUBLISH
X-ORIGINAL-URL:https://www.ev-kirche-naurod.de
X-WR-CALDESC:Veranstaltungen für Evangelische Kirchengemeinde Naurod
REFRESH-INTERVAL;VALUE=DURATION:PT1H
X-Robots-Tag:noindex
X-PUBLISHED-TTL:PT1H
BEGIN:VTIMEZONE
TZID:Europe/Berlin
BEGIN:DAYLIGHT
TZOFFSETFROM:+0100
TZOFFSETTO:+0200
TZNAME:CEST
DTSTART:20250330T010000
END:DAYLIGHT
BEGIN:STANDARD
TZOFFSETFROM:+0200
TZOFFSETTO:+0100
TZNAME:CET
DTSTART:20251026T010000
END:STANDARD
BEGIN:DAYLIGHT
TZOFFSETFROM:+0100
TZOFFSETTO:+0200
TZNAME:CEST
DTSTART:20260329T010000
END:DAYLIGHT
BEGIN:STANDARD
TZOFFSETFROM:+0200
TZOFFSETTO:+0100
TZNAME:CET
DTSTART:20261025T010000
END:STANDARD
BEGIN:DAYLIGHT
TZOFFSETFROM:+0100
TZOFFSETTO:+0200
TZNAME:CEST
DTSTART:20270328T010000
END:DAYLIGHT
BEGIN:STANDARD
TZOFFSETFROM:+0200
TZOFFSETTO:+0100
TZNAME:CET
DTSTART:20271031T010000
END:STANDARD
END:VTIMEZONE
BEGIN:VEVENT
DTSTART;TZID=Europe/Berlin:20260405T060000
DTEND;TZID=Europe/Berlin:20260405T060000
DTSTAMP:20260419T173351
CREATED:20260403T102323Z
LAST-MODIFIED:20260403T102323Z
UID:8356-1775368800-1775368800@www.ev-kirche-naurod.de
SUMMARY:MED - Gottesdienst am Ostermorgen\, anschl. Frühstück in der Pfarrscheune
DESCRIPTION:Im Anschluss daran findet in der Medenbacher Pfarrscheune ein Frühstück statt. Bitte melden Sie sich für dieses Frühstück bis zum 27. März im Medenbacher Gemeindebüro an: Kirchengemeinde.Medenbach@ekhn.de oder Tel. 06122 / 13110
URL:https://www.ev-kirche-naurod.de/event/med-gottesdienst-am-ostermorgen-anschl-fruehstueck-in-der-pfarrscheune/
LOCATION:Ev. Kirche Medenbach\, Fritz-Erler-Straße 11\, Wiesbaden
CATEGORIES:Gottesdienst
END:VEVENT
BEGIN:VEVENT
DTSTART;TZID=Europe/Berlin:20260405T093000
DTEND;TZID=Europe/Berlin:20260405T093000
DTSTAMP:20260419T173351
CREATED:20260217T194624Z
LAST-MODIFIED:20260217T194624Z
UID:8204-1775381400-1775381400@www.ev-kirche-naurod.de
SUMMARY:Gottesdienst am Ostersonntag mit Abendmahl
DESCRIPTION:mit Pfarrer Frederik Ebling
URL:https://www.ev-kirche-naurod.de/event/gottesdienst-am-ostersonntag-mit-abendmahl/
LOCATION:Ev. Kirche Naurod\, Kirchhohl 1\, Wiesbaden-Naurod\, Hessen\, 65207\, Deutschland
CATEGORIES:Gottesdienst
END:VEVENT
BEGIN:VEVENT
DTSTART;TZID=Europe/Berlin:20260405T104500
DTEND;TZID=Europe/Berlin:20260405T104500
DTSTAMP:20260419T173351
CREATED:20260217T194625Z
LAST-MODIFIED:20260217T194625Z
UID:8205-1775385900-1775385900@www.ev-kirche-naurod.de
SUMMARY:AUR - Gottesdienst am Ostersonntag
DESCRIPTION:mit Pfarrer Frederik Ebling
URL:https://www.ev-kirche-naurod.de/event/aur-gottesdienst-am-ostersonntag/
LOCATION:Ev. Kirche Auringen\, Kirchenhügel 1a\, Wiesbaden-Auringen\, Hessen\, 65207\, Deutschland
CATEGORIES:Gottesdienst
END:VEVENT
END:VCALENDAR