BEGIN:VCALENDAR
VERSION:2.0
PRODID:-//Evangelische Kirchengemeinde Naurod - ECPv6.15.20//NONSGML v1.0//EN
CALSCALE:GREGORIAN
METHOD:PUBLISH
X-WR-CALNAME:Evangelische Kirchengemeinde Naurod
X-ORIGINAL-URL:https://www.ev-kirche-naurod.de
X-WR-CALDESC:Veranstaltungen für Evangelische Kirchengemeinde Naurod
REFRESH-INTERVAL;VALUE=DURATION:PT1H
X-Robots-Tag:noindex
X-PUBLISHED-TTL:PT1H
BEGIN:VTIMEZONE
TZID:Europe/Berlin
BEGIN:DAYLIGHT
TZOFFSETFROM:+0100
TZOFFSETTO:+0200
TZNAME:CEST
DTSTART:20250330T010000
END:DAYLIGHT
BEGIN:STANDARD
TZOFFSETFROM:+0200
TZOFFSETTO:+0100
TZNAME:CET
DTSTART:20251026T010000
END:STANDARD
BEGIN:DAYLIGHT
TZOFFSETFROM:+0100
TZOFFSETTO:+0200
TZNAME:CEST
DTSTART:20260329T010000
END:DAYLIGHT
BEGIN:STANDARD
TZOFFSETFROM:+0200
TZOFFSETTO:+0100
TZNAME:CET
DTSTART:20261025T010000
END:STANDARD
BEGIN:DAYLIGHT
TZOFFSETFROM:+0100
TZOFFSETTO:+0200
TZNAME:CEST
DTSTART:20270328T010000
END:DAYLIGHT
BEGIN:STANDARD
TZOFFSETFROM:+0200
TZOFFSETTO:+0100
TZNAME:CET
DTSTART:20271031T010000
END:STANDARD
END:VTIMEZONE
BEGIN:VEVENT
DTSTART;TZID=Europe/Berlin:20260403T093000
DTEND;TZID=Europe/Berlin:20260403T093000
DTSTAMP:20260419T173217
CREATED:20260217T194425Z
LAST-MODIFIED:20260217T194425Z
UID:8201-1775208600-1775208600@www.ev-kirche-naurod.de
SUMMARY:Gottesdienst an Karfreitag mit Hl. Abendmahl
DESCRIPTION:mit Pfarrer Thomas Tschöpel
URL:https://www.ev-kirche-naurod.de/event/gottesdienst-an-karfreitag-mit-hl-abendmahl/
LOCATION:Ev. Kirche Naurod\, Kirchhohl 1\, Wiesbaden-Naurod\, Hessen\, 65207\, Deutschland
CATEGORIES:Gottesdienst
END:VEVENT
BEGIN:VEVENT
DTSTART;TZID=Europe/Berlin:20260403T104500
DTEND;TZID=Europe/Berlin:20260403T104500
DTSTAMP:20260419T173217
CREATED:20260217T194623Z
LAST-MODIFIED:20260217T194623Z
UID:8202-1775213100-1775213100@www.ev-kirche-naurod.de
SUMMARY:AUR - Gottesdienst an Karfreitag mit Hl. Abendmahl
DESCRIPTION:mit Pfarrer Thomas Tschöpel
URL:https://www.ev-kirche-naurod.de/event/aur-gottesdienst-an-karfreitag-mit-hl-abendmahl/
LOCATION:Ev. Kirche Auringen\, Kirchenhügel 1a\, Wiesbaden-Auringen\, Hessen\, 65207\, Deutschland
CATEGORIES:Gottesdienst
END:VEVENT
BEGIN:VEVENT
DTSTART;TZID=Europe/Berlin:20260403T150000
DTEND;TZID=Europe/Berlin:20260403T150000
DTSTAMP:20260419T173217
CREATED:20260403T102621Z
LAST-MODIFIED:20260403T102621Z
UID:8359-1775228400-1775228400@www.ev-kirche-naurod.de
SUMMARY:Kinderkreuzweg
DESCRIPTION:Es findet ein Kinderkreuzweg mit Start am Nauroder Gemeindehaus statt. Wir wollen mit den Kindern aus Auringen\, Medenbach und Naurod in kindgemäßer Form den Leidensweg Jesu nachgehen und dabei erfahren\, wie aktuell er auch für unseren Alltag sein kann. An verschiedenen Stationen wird mit farbigen Tüchern und zahlreichen Symbolen die Leidensgeschichte Jesu erzählt\, Lieder gesungen und gebetet. Am Ende steht natürlich der Ausblick auf Ostern und die Hoffnung\, dass Gott nicht nur Jesus\, sondern auch uns neues Leben schenken will. \nInteressierte Erwachsene aus allen Gemeinden sind ebenfalls herzlich eingeladen!
URL:https://www.ev-kirche-naurod.de/event/kinderkreuzweg/
LOCATION:Ev. Gemeindehaus Naurod\, Kirchhohl 5\, Wiesbaden-Naurod\, Hessen\, 65207\, Deutschland
CATEGORIES:Kindergottesdienst
END:VEVENT
BEGIN:VEVENT
DTSTART;TZID=Europe/Berlin:20260403T170000
DTEND;TZID=Europe/Berlin:20260403T170000
DTSTAMP:20260419T173217
CREATED:20260217T194623Z
LAST-MODIFIED:20260217T194623Z
UID:8203-1775235600-1775235600@www.ev-kirche-naurod.de
SUMMARY:MED - Gottesdienst  an Karfreitag mit Hl. Abendmahl
DESCRIPTION:mit Pfarrer Thomas Tschöpel
URL:https://www.ev-kirche-naurod.de/event/med-gottesdienst-an-karfreitag-mit-hl-abendmahl/
LOCATION:Ev. Kirche Medenbach\, Fritz-Erler-Straße 11\, Wiesbaden
CATEGORIES:Gottesdienst
END:VEVENT
END:VCALENDAR